BEGIN:VCALENDAR
VERSION:2.0
PRODID:-//ZUŠ ROZTOKY - ECPv5.7.0//NONSGML v1.0//EN
CALSCALE:GREGORIAN
METHOD:PUBLISH
X-WR-CALNAME:ZUŠ ROZTOKY
X-ORIGINAL-URL:https://zusroztoky.cz
X-WR-CALDESC:Akce na ZUŠ ROZTOKY
BEGIN:VTIMEZONE
TZID:Europe/Prague
BEGIN:DAYLIGHT
TZOFFSETFROM:+0100
TZOFFSETTO:+0200
TZNAME:CEST
DTSTART:20210328T010000
END:DAYLIGHT
BEGIN:STANDARD
TZOFFSETFROM:+0200
TZOFFSETTO:+0100
TZNAME:CET
DTSTART:20211031T010000
END:STANDARD
END:VTIMEZONE
BEGIN:VEVENT
DTSTART;TZID=Europe/Prague:20210608T180000
DTEND;TZID=Europe/Prague:20210608T200000
DTSTAMP:20260422T200058
CREATED:20210524T142241Z
LAST-MODIFIED:20210524T142654Z
UID:2578-1623175200-1623182400@zusroztoky.cz
SUMMARY:Absolventský koncert klavírního oddělení a literárně-dramatického oboru
DESCRIPTION:Historický sál roztockého zámku
URL:https://zusroztoky.cz/event/absolventsky-koncert-klavirniho-oddeleni-a-literarne-dramatickeho-oboru/
END:VEVENT
END:VCALENDAR